BEGIN:VCALENDAR
VERSION:2.0
PRODID:spatie/icalendar-generator
BEGIN:VTIMEZONE
TZID:UTC
BEGIN:STANDARD
DTSTART:20250729T102819
TZOFFSETFROM:+0000
TZOFFSETTO:+0000
END:STANDARD
END:VTIMEZONE
BEGIN:VEVENT
UID:69ec9743b28a7
DTSTAMP:20260425T102819Z
SUMMARY:MusikWelten
DTSTART:20261016T080000Z
DTEND:20261016T080000Z
END:VEVENT
END:VCALENDAR