BEGIN:VCALENDAR
VERSION:2.0
PRODID:spatie/icalendar-generator
BEGIN:VTIMEZONE
TZID:UTC
BEGIN:STANDARD
DTSTART:20250729T103627
TZOFFSETFROM:+0000
TZOFFSETTO:+0000
END:STANDARD
END:VTIMEZONE
BEGIN:VEVENT
UID:69ec992b0e23c
DTSTAMP:20260425T103627Z
SUMMARY:MusikWelten
DTSTART:20261015T080000Z
DTEND:20261015T080000Z
END:VEVENT
END:VCALENDAR