BEGIN:VCALENDAR
VERSION:2.0
PRODID:spatie/icalendar-generator
BEGIN:VTIMEZONE
TZID:UTC
BEGIN:STANDARD
DTSTART:20250729T101709
TZOFFSETFROM:+0000
TZOFFSETTO:+0000
END:STANDARD
END:VTIMEZONE
BEGIN:VEVENT
UID:69ec94a565d2c
DTSTAMP:20260425T101709Z
SUMMARY:MusikWelten
DTSTART:20261011T080000Z
DTEND:20261011T080000Z
END:VEVENT
END:VCALENDAR