BEGIN:VCALENDAR
VERSION:2.0
PRODID:spatie/icalendar-generator
BEGIN:VTIMEZONE
TZID:UTC
BEGIN:STANDARD
DTSTART:20250729T101710
TZOFFSETFROM:+0000
TZOFFSETTO:+0000
END:STANDARD
END:VTIMEZONE
BEGIN:VEVENT
UID:69ec94a62beb0
DTSTAMP:20260425T101710Z
SUMMARY:MusikWelten
DTSTART:20261004T080000Z
DTEND:20261004T080000Z
END:VEVENT
END:VCALENDAR