BEGIN:VCALENDAR
VERSION:2.0
PRODID:spatie/icalendar-generator
BEGIN:VTIMEZONE
TZID:UTC
BEGIN:STANDARD
DTSTART:20250729T115512
TZOFFSETFROM:+0000
TZOFFSETTO:+0000
END:STANDARD
END:VTIMEZONE
BEGIN:VEVENT
UID:69ecaba085735
DTSTAMP:20260425T115512Z
SUMMARY:MusikWelten
DTSTART:20261001T080000Z
DTEND:20261001T080000Z
END:VEVENT
END:VCALENDAR