BEGIN:VCALENDAR
VERSION:2.0
PRODID:spatie/icalendar-generator
BEGIN:VTIMEZONE
TZID:UTC
BEGIN:STANDARD
DTSTART:20250729T115500
TZOFFSETFROM:+0000
TZOFFSETTO:+0000
END:STANDARD
END:VTIMEZONE
BEGIN:VEVENT
UID:69ecab94ea1fd
DTSTAMP:20260425T115500Z
SUMMARY:MusikWelten
DTSTART:20260911T080000Z
DTEND:20260911T080000Z
END:VEVENT
END:VCALENDAR