BEGIN:VCALENDAR
VERSION:2.0
PRODID:spatie/icalendar-generator
BEGIN:VTIMEZONE
TZID:UTC
BEGIN:STANDARD
DTSTART:20250729T134414
TZOFFSETFROM:+0000
TZOFFSETTO:+0000
END:STANDARD
END:VTIMEZONE
BEGIN:VEVENT
UID:69ecc52e137d2
DTSTAMP:20260425T134414Z
SUMMARY:MusikWelten
DTSTART:20260909T080000Z
DTEND:20260909T080000Z
END:VEVENT
END:VCALENDAR