BEGIN:VCALENDAR
VERSION:2.0
PRODID:spatie/icalendar-generator
BEGIN:VTIMEZONE
TZID:UTC
BEGIN:STANDARD
DTSTART:20250729T134241
TZOFFSETFROM:+0000
TZOFFSETTO:+0000
END:STANDARD
END:VTIMEZONE
BEGIN:VEVENT
UID:69ecc4d10e082
DTSTAMP:20260425T134241Z
SUMMARY:MusikWelten
DTSTART:20260812T080000Z
DTEND:20260812T080000Z
END:VEVENT
END:VCALENDAR