BEGIN:VCALENDAR
VERSION:2.0
PRODID:spatie/icalendar-generator
BEGIN:VTIMEZONE
TZID:UTC
BEGIN:STANDARD
DTSTART:20250729T203229
TZOFFSETFROM:+0000
TZOFFSETTO:+0000
END:STANDARD
END:VTIMEZONE
BEGIN:VEVENT
UID:69ed24ddde27b
DTSTAMP:20260425T203229Z
SUMMARY:Versunkene Geschichte - Archäologie an Rhein und Neckar
DTSTART:20260923T080000Z
DTEND:20260923T080000Z
END:VEVENT
END:VCALENDAR