BEGIN:VCALENDAR
VERSION:2.0
PRODID:spatie/icalendar-generator
BEGIN:VTIMEZONE
TZID:UTC
BEGIN:STANDARD
DTSTART:20250729T221645
TZOFFSETFROM:+0000
TZOFFSETTO:+0000
END:STANDARD
END:VTIMEZONE
BEGIN:VEVENT
UID:69ed3d4d1d7f4
DTSTAMP:20260425T221645Z
SUMMARY:Versunkene Geschichte - Archäologie an Rhein und Neckar
DTSTART:20260904T080000Z
DTEND:20260904T080000Z
END:VEVENT
END:VCALENDAR