BEGIN:VCALENDAR
VERSION:2.0
PRODID:spatie/icalendar-generator
BEGIN:VTIMEZONE
TZID:UTC
BEGIN:STANDARD
DTSTART:20250729T234230
TZOFFSETFROM:+0000
TZOFFSETTO:+0000
END:STANDARD
END:VTIMEZONE
BEGIN:VEVENT
UID:69ed5166327ab
DTSTAMP:20260425T234230Z
SUMMARY:Ägypten - Land der Unsterblichkeit
DTSTART:20261217T090000Z
DTEND:20261217T090000Z
END:VEVENT
END:VCALENDAR