BEGIN:VCALENDAR
VERSION:2.0
PRODID:spatie/icalendar-generator
BEGIN:VTIMEZONE
TZID:UTC
BEGIN:STANDARD
DTSTART:20250729T235859
TZOFFSETFROM:+0000
TZOFFSETTO:+0000
END:STANDARD
END:VTIMEZONE
BEGIN:VEVENT
UID:69ed55431ad55
DTSTAMP:20260425T235859Z
SUMMARY:Ägypten - Land der Unsterblichkeit
DTSTART:20261213T090000Z
DTEND:20261213T090000Z
END:VEVENT
END:VCALENDAR