BEGIN:VCALENDAR
VERSION:2.0
PRODID:spatie/icalendar-generator
BEGIN:VTIMEZONE
TZID:UTC
BEGIN:STANDARD
DTSTART:20250730T000713
TZOFFSETFROM:+0000
TZOFFSETTO:+0000
END:STANDARD
END:VTIMEZONE
BEGIN:VEVENT
UID:69ed5731f0d6e
DTSTAMP:20260426T000713Z
SUMMARY:Ägypten - Land der Unsterblichkeit
DTSTART:20261206T090000Z
DTEND:20261206T090000Z
END:VEVENT
END:VCALENDAR