BEGIN:VCALENDAR
VERSION:2.0
PRODID:spatie/icalendar-generator
BEGIN:VTIMEZONE
TZID:UTC
BEGIN:STANDARD
DTSTART:20250730T011247
TZOFFSETFROM:+0000
TZOFFSETTO:+0000
END:STANDARD
END:VTIMEZONE
BEGIN:VEVENT
UID:69ed668f27b7a
DTSTAMP:20260426T011247Z
SUMMARY:Ägypten - Land der Unsterblichkeit
DTSTART:20261202T090000Z
DTEND:20261202T090000Z
END:VEVENT
END:VCALENDAR