BEGIN:VCALENDAR
VERSION:2.0
PRODID:spatie/icalendar-generator
BEGIN:VTIMEZONE
TZID:UTC
BEGIN:STANDARD
DTSTART:20250730T011452
TZOFFSETFROM:+0000
TZOFFSETTO:+0000
END:STANDARD
END:VTIMEZONE
BEGIN:VEVENT
UID:69ed670ca56e4
DTSTAMP:20260426T011452Z
SUMMARY:Ägypten - Land der Unsterblichkeit
DTSTART:20261129T090000Z
DTEND:20261129T090000Z
END:VEVENT
END:VCALENDAR