BEGIN:VCALENDAR
VERSION:2.0
PRODID:spatie/icalendar-generator
BEGIN:VTIMEZONE
TZID:UTC
BEGIN:STANDARD
DTSTART:20250730T013517
TZOFFSETFROM:+0000
TZOFFSETTO:+0000
END:STANDARD
END:VTIMEZONE
BEGIN:VEVENT
UID:69ed6bd5c8f8e
DTSTAMP:20260426T013517Z
SUMMARY:Ägypten - Land der Unsterblichkeit
DTSTART:20261118T090000Z
DTEND:20261118T090000Z
END:VEVENT
END:VCALENDAR