BEGIN:VCALENDAR
VERSION:2.0
PRODID:spatie/icalendar-generator
BEGIN:VTIMEZONE
TZID:UTC
BEGIN:STANDARD
DTSTART:20250730T024601
TZOFFSETFROM:+0000
TZOFFSETTO:+0000
END:STANDARD
END:VTIMEZONE
BEGIN:VEVENT
UID:69ed7c6905da6
DTSTAMP:20260426T024601Z
SUMMARY:Ägypten - Land der Unsterblichkeit
DTSTART:20261105T090000Z
DTEND:20261105T090000Z
END:VEVENT
END:VCALENDAR