BEGIN:VCALENDAR
VERSION:2.0
PRODID:spatie/icalendar-generator
BEGIN:VTIMEZONE
TZID:UTC
BEGIN:STANDARD
DTSTART:20250730T031016
TZOFFSETFROM:+0000
TZOFFSETTO:+0000
END:STANDARD
END:VTIMEZONE
BEGIN:VEVENT
UID:69ed8218d167d
DTSTAMP:20260426T031016Z
SUMMARY:Ägypten - Land der Unsterblichkeit
DTSTART:20261029T090000Z
DTEND:20261029T090000Z
END:VEVENT
END:VCALENDAR