BEGIN:VCALENDAR
VERSION:2.0
PRODID:spatie/icalendar-generator
BEGIN:VTIMEZONE
TZID:UTC
BEGIN:STANDARD
DTSTART:20250730T024850
TZOFFSETFROM:+0000
TZOFFSETTO:+0000
END:STANDARD
END:VTIMEZONE
BEGIN:VEVENT
UID:69ed7d1210cb2
DTSTAMP:20260426T024850Z
SUMMARY:Ägypten - Land der Unsterblichkeit
DTSTART:20261027T090000Z
DTEND:20261027T090000Z
END:VEVENT
END:VCALENDAR