BEGIN:VCALENDAR
VERSION:2.0
PRODID:spatie/icalendar-generator
BEGIN:VTIMEZONE
TZID:UTC
BEGIN:STANDARD
DTSTART:20250730T030230
TZOFFSETFROM:+0000
TZOFFSETTO:+0000
END:STANDARD
END:VTIMEZONE
BEGIN:VEVENT
UID:69ed80465d2cd
DTSTAMP:20260426T030230Z
SUMMARY:Ägypten - Land der Unsterblichkeit
DTSTART:20261020T080000Z
DTEND:20261020T080000Z
END:VEVENT
END:VCALENDAR