BEGIN:VCALENDAR
VERSION:2.0
PRODID:spatie/icalendar-generator
BEGIN:VTIMEZONE
TZID:UTC
BEGIN:STANDARD
DTSTART:20250730T035452
TZOFFSETFROM:+0000
TZOFFSETTO:+0000
END:STANDARD
END:VTIMEZONE
BEGIN:VEVENT
UID:69ed8c8cb833d
DTSTAMP:20260426T035452Z
SUMMARY:Ägypten - Land der Unsterblichkeit
DTSTART:20261015T080000Z
DTEND:20261015T080000Z
END:VEVENT
END:VCALENDAR