BEGIN:VCALENDAR
VERSION:2.0
PRODID:spatie/icalendar-generator
BEGIN:VTIMEZONE
TZID:UTC
BEGIN:STANDARD
DTSTART:20250730T035249
TZOFFSETFROM:+0000
TZOFFSETTO:+0000
END:STANDARD
END:VTIMEZONE
BEGIN:VEVENT
UID:69ed8c11387c8
DTSTAMP:20260426T035249Z
SUMMARY:Ägypten - Land der Unsterblichkeit
DTSTART:20261013T080000Z
DTEND:20261013T080000Z
END:VEVENT
END:VCALENDAR