BEGIN:VCALENDAR
VERSION:2.0
PRODID:spatie/icalendar-generator
BEGIN:VTIMEZONE
TZID:UTC
BEGIN:STANDARD
DTSTART:20250730T041805
TZOFFSETFROM:+0000
TZOFFSETTO:+0000
END:STANDARD
END:VTIMEZONE
BEGIN:VEVENT
UID:69ed91fd17c6a
DTSTAMP:20260426T041805Z
SUMMARY:Ägypten - Land der Unsterblichkeit
DTSTART:20261004T080000Z
DTEND:20261004T080000Z
END:VEVENT
END:VCALENDAR