BEGIN:VCALENDAR
VERSION:2.0
PRODID:spatie/icalendar-generator
BEGIN:VTIMEZONE
TZID:UTC
BEGIN:STANDARD
DTSTART:20250729T203302
TZOFFSETFROM:+0000
TZOFFSETTO:+0000
END:STANDARD
END:VTIMEZONE
BEGIN:VEVENT
UID:69ed24fed4be7
DTSTAMP:20260425T203302Z
SUMMARY:Ägypten - Land der Unsterblichkeit
DTSTART:20260929T080000Z
DTEND:20260929T080000Z
END:VEVENT
END:VCALENDAR