BEGIN:VCALENDAR
VERSION:2.0
PRODID:spatie/icalendar-generator
BEGIN:VTIMEZONE
TZID:UTC
BEGIN:STANDARD
DTSTART:20250729T210018
TZOFFSETFROM:+0000
TZOFFSETTO:+0000
END:STANDARD
END:VTIMEZONE
BEGIN:VEVENT
UID:69ed2b62335aa
DTSTAMP:20260425T210018Z
SUMMARY:Ägypten - Land der Unsterblichkeit
DTSTART:20260922T080000Z
DTEND:20260922T080000Z
END:VEVENT
END:VCALENDAR