BEGIN:VCALENDAR
VERSION:2.0
PRODID:spatie/icalendar-generator
BEGIN:VTIMEZONE
TZID:UTC
BEGIN:STANDARD
DTSTART:20250728T021334
TZOFFSETFROM:+0000
TZOFFSETTO:+0000
END:STANDARD
END:VTIMEZONE
BEGIN:VEVENT
UID:69ead1ce3854e
DTSTAMP:20260424T021334Z
SUMMARY:Ägypten - Land der Unsterblichkeit
DTSTART:20260917T080000Z
DTEND:20260917T080000Z
END:VEVENT
END:VCALENDAR