BEGIN:VCALENDAR
VERSION:2.0
PRODID:spatie/icalendar-generator
BEGIN:VTIMEZONE
TZID:UTC
BEGIN:STANDARD
DTSTART:20250728T022502
TZOFFSETFROM:+0000
TZOFFSETTO:+0000
END:STANDARD
END:VTIMEZONE
BEGIN:VEVENT
UID:69ead47edb67b
DTSTAMP:20260424T022502Z
SUMMARY:Ägypten - Land der Unsterblichkeit
DTSTART:20260915T080000Z
DTEND:20260915T080000Z
END:VEVENT
END:VCALENDAR