BEGIN:VCALENDAR
VERSION:2.0
PRODID:spatie/icalendar-generator
BEGIN:VTIMEZONE
TZID:UTC
BEGIN:STANDARD
DTSTART:20250729T223554
TZOFFSETFROM:+0000
TZOFFSETTO:+0000
END:STANDARD
END:VTIMEZONE
BEGIN:VEVENT
UID:69ed41ca5331b
DTSTAMP:20260425T223554Z
SUMMARY:Ägypten - Land der Unsterblichkeit
DTSTART:20260904T080000Z
DTEND:20260904T080000Z
END:VEVENT
END:VCALENDAR