BEGIN:VCALENDAR
VERSION:2.0
PRODID:spatie/icalendar-generator
BEGIN:VTIMEZONE
TZID:UTC
BEGIN:STANDARD
DTSTART:20250729T224358
TZOFFSETFROM:+0000
TZOFFSETTO:+0000
END:STANDARD
END:VTIMEZONE
BEGIN:VEVENT
UID:69ed43ae175c7
DTSTAMP:20260425T224358Z
SUMMARY:Ägypten - Land der Unsterblichkeit
DTSTART:20260902T080000Z
DTEND:20260902T080000Z
END:VEVENT
END:VCALENDAR