BEGIN:VCALENDAR
VERSION:2.0
PRODID:spatie/icalendar-generator
BEGIN:VTIMEZONE
TZID:UTC
BEGIN:STANDARD
DTSTART:20250729T223659
TZOFFSETFROM:+0000
TZOFFSETTO:+0000
END:STANDARD
END:VTIMEZONE
BEGIN:VEVENT
UID:69ed420b578ad
DTSTAMP:20260425T223659Z
SUMMARY:Ägypten - Land der Unsterblichkeit
DTSTART:20260901T080000Z
DTEND:20260901T080000Z
END:VEVENT
END:VCALENDAR