BEGIN:VCALENDAR
VERSION:2.0
PRODID:spatie/icalendar-generator
BEGIN:VTIMEZONE
TZID:UTC
BEGIN:STANDARD
DTSTART:20250729T225823
TZOFFSETFROM:+0000
TZOFFSETTO:+0000
END:STANDARD
END:VTIMEZONE
BEGIN:VEVENT
UID:69ed470f3b131
DTSTAMP:20260425T225823Z
SUMMARY:Offener Smartphone-Treff in der Zentralbibliothek
DTSTART:20261105T090000Z
DTEND:20261105T103000Z
END:VEVENT
END:VCALENDAR