BEGIN:VCALENDAR
VERSION:2.0
PRODID:spatie/icalendar-generator
BEGIN:VTIMEZONE
TZID:UTC
BEGIN:STANDARD
DTSTART:20250728T034714
TZOFFSETFROM:+0000
TZOFFSETTO:+0000
END:STANDARD
END:VTIMEZONE
BEGIN:VEVENT
UID:69eae7c24b11c
DTSTAMP:20260424T034714Z
SUMMARY:Öffentliche Führung durch die Stadtgeschichtliche Ausstellung
DTSTART:20260726T130000Z
DTEND:20260726T140000Z
END:VEVENT
END:VCALENDAR