BEGIN:VCALENDAR
VERSION:2.0
PRODID:spatie/icalendar-generator
BEGIN:VTIMEZONE
TZID:UTC
BEGIN:STANDARD
DTSTART:20250728T034837
TZOFFSETFROM:+0000
TZOFFSETTO:+0000
END:STANDARD
END:VTIMEZONE
BEGIN:VEVENT
UID:69eae815407de
DTSTAMP:20260424T034837Z
SUMMARY:GROUP HUG - Die Impro Show
DTSTART:20260613T173000Z
DTEND:20260613T193000Z
END:VEVENT
END:VCALENDAR