BEGIN:VCALENDAR
VERSION:2.0
PRODID:spatie/icalendar-generator
BEGIN:VTIMEZONE
TZID:UTC
BEGIN:STANDARD
DTSTART:20250728T034714
TZOFFSETFROM:+0000
TZOFFSETTO:+0000
END:STANDARD
END:VTIMEZONE
BEGIN:VEVENT
UID:69eae7c267f1f
DTSTAMP:20260424T034714Z
SUMMARY:The Iron Maidens - The world's only female Tribute to Iron Maiden
DTSTART:20260723T180000Z
DTEND:20260723T180000Z
END:VEVENT
END:VCALENDAR