BEGIN:VCALENDAR
VERSION:2.0
PRODID:spatie/icalendar-generator
BEGIN:VTIMEZONE
TZID:UTC
BEGIN:STANDARD
DTSTART:20250728T063326
TZOFFSETFROM:+0000
TZOFFSETTO:+0000
END:STANDARD
END:VTIMEZONE
BEGIN:VEVENT
UID:69eb0eb6a314f
DTSTAMP:20260424T063326Z
SUMMARY:Burak Çebi - Eine Hommage an Ludovico Einaudi
DTSTART:20261125T190000Z
DTEND:20261125T190000Z
END:VEVENT
END:VCALENDAR