BEGIN:VCALENDAR
VERSION:2.0
PRODID:spatie/icalendar-generator
BEGIN:VTIMEZONE
TZID:UTC
BEGIN:STANDARD
DTSTART:20250728T064418
TZOFFSETFROM:+0000
TZOFFSETTO:+0000
END:STANDARD
END:VTIMEZONE
BEGIN:VEVENT
UID:69eb114267441
DTSTAMP:20260424T064418Z
SUMMARY:Käfertaler BegegnungsCafé
DTSTART:20260426T130000Z
DTEND:20260426T160000Z
END:VEVENT
END:VCALENDAR