BEGIN:VCALENDAR
VERSION:2.0
PRODID:spatie/icalendar-generator
BEGIN:VTIMEZONE
TZID:UTC
BEGIN:STANDARD
DTSTART:20250730T002606
TZOFFSETFROM:+0000
TZOFFSETTO:+0000
END:STANDARD
END:VTIMEZONE
BEGIN:VEVENT
UID:69ed5b9e57892
DTSTAMP:20260426T002606Z
SUMMARY:Café Colibri - Deutsch sprechen auf der Rheinau
DTSTART:20260708T080000Z
DTEND:20260708T090000Z
END:VEVENT
END:VCALENDAR