BEGIN:VCALENDAR
VERSION:2.0
PRODID:spatie/icalendar-generator
BEGIN:VTIMEZONE
TZID:UTC
BEGIN:STANDARD
DTSTART:20250730T001538
TZOFFSETFROM:+0000
TZOFFSETTO:+0000
END:STANDARD
END:VTIMEZONE
BEGIN:VEVENT
UID:69ed592af3faa
DTSTAMP:20260426T001538Z
SUMMARY:Café Colibri - Deutsch sprechen auf der Rheinau
DTSTART:20260610T080000Z
DTEND:20260610T090000Z
END:VEVENT
END:VCALENDAR