BEGIN:VCALENDAR
VERSION:2.0
PRODID:spatie/icalendar-generator
BEGIN:VTIMEZONE
TZID:UTC
BEGIN:STANDARD
DTSTART:20250730T001549
TZOFFSETFROM:+0000
TZOFFSETTO:+0000
END:STANDARD
END:VTIMEZONE
BEGIN:VEVENT
UID:69ed5935e0446
DTSTAMP:20260426T001549Z
SUMMARY:Café Colibri - Deutsch sprechen auf der Rheinau
DTSTART:20260513T080000Z
DTEND:20260513T090000Z
END:VEVENT
END:VCALENDAR