BEGIN:VCALENDAR
VERSION:2.0
PRODID:spatie/icalendar-generator
BEGIN:VTIMEZONE
TZID:UTC
BEGIN:STANDARD
DTSTART:20250730T002809
TZOFFSETFROM:+0000
TZOFFSETTO:+0000
END:STANDARD
END:VTIMEZONE
BEGIN:VEVENT
UID:69ed5c19a7757
DTSTAMP:20260426T002809Z
SUMMARY:SuzzieQ - Tribute To CCR
DTSTART:20260904T180000Z
DTEND:20260904T180000Z
END:VEVENT
END:VCALENDAR