BEGIN:VCALENDAR
VERSION:2.0
PRODID:spatie/icalendar-generator
BEGIN:VTIMEZONE
TZID:UTC
BEGIN:STANDARD
DTSTART:20250730T001550
TZOFFSETFROM:+0000
TZOFFSETTO:+0000
END:STANDARD
END:VTIMEZONE
BEGIN:VEVENT
UID:69ed593613ef8
DTSTAMP:20260426T001550Z
SUMMARY:Negah Amiri - SCHÖN LAUT
DTSTART:20270116T190000Z
DTEND:20270116T190000Z
END:VEVENT
END:VCALENDAR