BEGIN:VCALENDAR
VERSION:2.0
PRODID:spatie/icalendar-generator
BEGIN:VTIMEZONE
TZID:UTC
BEGIN:STANDARD
DTSTART:20250728T045841
TZOFFSETFROM:+0000
TZOFFSETTO:+0000
END:STANDARD
END:VTIMEZONE
BEGIN:VEVENT
UID:69eaf881de89e
DTSTAMP:20260424T045841Z
SUMMARY:Workshop: Theatergruppe K5
DTSTART:20260708T120000Z
DTEND:20260708T133000Z
END:VEVENT
END:VCALENDAR