BEGIN:VCALENDAR
VERSION:2.0
PRODID:spatie/icalendar-generator
BEGIN:VTIMEZONE
TZID:UTC
BEGIN:STANDARD
DTSTART:20250728T045955
TZOFFSETFROM:+0000
TZOFFSETTO:+0000
END:STANDARD
END:VTIMEZONE
BEGIN:VEVENT
UID:69eaf8cb26fbd
DTSTAMP:20260424T045955Z
SUMMARY:Workshop: Theatergruppe K5
DTSTART:20260701T120000Z
DTEND:20260701T133000Z
END:VEVENT
END:VCALENDAR