BEGIN:VCALENDAR
VERSION:2.0
PRODID:spatie/icalendar-generator
BEGIN:VTIMEZONE
TZID:UTC
BEGIN:STANDARD
DTSTART:20250728T050014
TZOFFSETFROM:+0000
TZOFFSETTO:+0000
END:STANDARD
END:VTIMEZONE
BEGIN:VEVENT
UID:69eaf8ded7b8f
DTSTAMP:20260424T050014Z
SUMMARY:Workshop: Theatergruppe K5
DTSTART:20260617T120000Z
DTEND:20260617T133000Z
END:VEVENT
END:VCALENDAR