BEGIN:VCALENDAR
VERSION:2.0
PRODID:spatie/icalendar-generator
BEGIN:VTIMEZONE
TZID:UTC
BEGIN:STANDARD
DTSTART:20250730T020334
TZOFFSETFROM:+0000
TZOFFSETTO:+0000
END:STANDARD
END:VTIMEZONE
BEGIN:VEVENT
UID:69ed72761456d
DTSTAMP:20260426T020334Z
SUMMARY:Maimarkt Mannheim
DTSTART:20260505T070000Z
DTEND:20260505T070000Z
END:VEVENT
END:VCALENDAR