BEGIN:VCALENDAR
VERSION:2.0
PRODID:spatie/icalendar-generator
BEGIN:VTIMEZONE
TZID:UTC
BEGIN:STANDARD
DTSTART:20250728T091855
TZOFFSETFROM:+0000
TZOFFSETTO:+0000
END:STANDARD
END:VTIMEZONE
BEGIN:VEVENT
UID:69eb357f405fe
DTSTAMP:20260424T091855Z
SUMMARY:Thomas Blugs Rockanarchie
DTSTART:20260424T180000Z
DTEND:20260424T180000Z
END:VEVENT
END:VCALENDAR