BEGIN:VCALENDAR
VERSION:2.0
PRODID:spatie/icalendar-generator
BEGIN:VTIMEZONE
TZID:UTC
BEGIN:STANDARD
DTSTART:20250728T092030
TZOFFSETFROM:+0000
TZOFFSETTO:+0000
END:STANDARD
END:VTIMEZONE
BEGIN:VEVENT
UID:69eb35debb5c2
DTSTAMP:20260424T092030Z
SUMMARY:Nicolai Friedrich - Wunderland
DTSTART:20270204T190000Z
DTEND:20270204T190000Z
END:VEVENT
END:VCALENDAR