BEGIN:VCALENDAR
VERSION:2.0
PRODID:spatie/icalendar-generator
BEGIN:VTIMEZONE
TZID:UTC
BEGIN:STANDARD
DTSTART:20250728T091911
TZOFFSETFROM:+0000
TZOFFSETTO:+0000
END:STANDARD
END:VTIMEZONE
BEGIN:VEVENT
UID:69eb358faa3b2
DTSTAMP:20260424T091911Z
SUMMARY:Clapton Experience - A Tribute to Eric Clapton
DTSTART:20261023T180000Z
DTEND:20261023T180000Z
END:VEVENT
END:VCALENDAR