BEGIN:VCALENDAR
VERSION:2.0
PRODID:spatie/icalendar-generator
BEGIN:VTIMEZONE
TZID:UTC
BEGIN:STANDARD
DTSTART:20250728T091911
TZOFFSETFROM:+0000
TZOFFSETTO:+0000
END:STANDARD
END:VTIMEZONE
BEGIN:VEVENT
UID:69eb358f52803
DTSTAMP:20260424T091911Z
SUMMARY:Mirja Boes & die HonkeyDonkeys - carpfe diem!
DTSTART:20270228T180000Z
DTEND:20270228T180000Z
END:VEVENT
END:VCALENDAR