BEGIN:VCALENDAR
VERSION:2.0
PRODID:spatie/icalendar-generator
BEGIN:VTIMEZONE
TZID:UTC
BEGIN:STANDARD
DTSTART:20250728T091122
TZOFFSETFROM:+0000
TZOFFSETTO:+0000
END:STANDARD
END:VTIMEZONE
BEGIN:VEVENT
UID:69eb33bada4c2
DTSTAMP:20260424T091122Z
SUMMARY:Cem Adrian
DTSTART:20261204T190000Z
DTEND:20261204T190000Z
END:VEVENT
END:VCALENDAR